BEGIN:VCALENDAR
VERSION:2.0
PRODID:-//FACT Bucks | Parent Carer Forum - ECPv6.15.17.1//NONSGML v1.0//EN
CALSCALE:GREGORIAN
METHOD:PUBLISH
X-WR-CALNAME:FACT Bucks | Parent Carer Forum
X-ORIGINAL-URL:https://www.factbucks.org.uk
X-WR-CALDESC:Events for FACT Bucks | Parent Carer Forum
REFRESH-INTERVAL;VALUE=DURATION:PT1H
X-Robots-Tag:noindex
X-PUBLISHED-TTL:PT1H
BEGIN:VTIMEZONE
TZID:Europe/London
BEGIN:DAYLIGHT
TZOFFSETFROM:+0000
TZOFFSETTO:+0100
TZNAME:BST
DTSTART:20250330T010000
END:DAYLIGHT
BEGIN:STANDARD
TZOFFSETFROM:+0100
TZOFFSETTO:+0000
TZNAME:GMT
DTSTART:20251026T010000
END:STANDARD
BEGIN:DAYLIGHT
TZOFFSETFROM:+0000
TZOFFSETTO:+0100
TZNAME:BST
DTSTART:20260329T010000
END:DAYLIGHT
BEGIN:STANDARD
TZOFFSETFROM:+0100
TZOFFSETTO:+0000
TZNAME:GMT
DTSTART:20261025T010000
END:STANDARD
BEGIN:DAYLIGHT
TZOFFSETFROM:+0000
TZOFFSETTO:+0100
TZNAME:BST
DTSTART:20270328T010000
END:DAYLIGHT
BEGIN:STANDARD
TZOFFSETFROM:+0100
TZOFFSETTO:+0000
TZNAME:GMT
DTSTART:20271031T010000
END:STANDARD
END:VTIMEZONE
BEGIN:VEVENT
DTSTART;TZID=Europe/London:20260422T093000
DTEND;TZID=Europe/London:20260422T113000
DTSTAMP:20260421T110923
CREATED:20260327T200102Z
LAST-MODIFIED:20260330T093346Z
UID:10000265-1776850200-1776857400@www.factbucks.org.uk
SUMMARY:External Event: Space Chesham and South Bucks- Richard Maguire – great speaker\, with Autism and ADHD
DESCRIPTION:From 9.30am\, we meet informally with refreshments\, to share and find Space to unwind. Most meetings include a special speaker who provides a talk from 10.00am on an aspect of special needs or experiences. All are welcome\, whether it is your first time or your fiftieth!\nSpace Support Chesham & South Bucks – Supporting parents of ADHD/Autistic Spectrum Disorder/Behaviourally Challenging Children through Encouragement and Education\nMeetings normally finish at 11.30am\, and are held at Trinity Building\, Red Lion St\, Chesham HP5 1EZ\nClick here for directions.\nSome parking is available behind the Church\, but there should be plenty of spaces in the Water Meadow car park\, or if you are able\, you can park for free at the Moor Road car park\, and walk the few minutes round to Trinity.\n#public
URL:https://www.factbucks.org.uk/event/external-event-space-chesham-and-south-bucks-richard-maguire-great-speaker-with-autism-and-adhd/
END:VEVENT
END:VCALENDAR