BEGIN:VCALENDAR
VERSION:2.0
PRODID:-//FACT Bucks | Parent Carer Forum - ECPv6.15.17.1//NONSGML v1.0//EN
CALSCALE:GREGORIAN
METHOD:PUBLISH
X-WR-CALNAME:FACT Bucks | Parent Carer Forum
X-ORIGINAL-URL:https://www.factbucks.org.uk
X-WR-CALDESC:Events for FACT Bucks | Parent Carer Forum
REFRESH-INTERVAL;VALUE=DURATION:PT1H
X-Robots-Tag:noindex
X-PUBLISHED-TTL:PT1H
BEGIN:VTIMEZONE
TZID:Europe/London
BEGIN:DAYLIGHT
TZOFFSETFROM:+0000
TZOFFSETTO:+0100
TZNAME:BST
DTSTART:20250330T010000
END:DAYLIGHT
BEGIN:STANDARD
TZOFFSETFROM:+0100
TZOFFSETTO:+0000
TZNAME:GMT
DTSTART:20251026T010000
END:STANDARD
BEGIN:DAYLIGHT
TZOFFSETFROM:+0000
TZOFFSETTO:+0100
TZNAME:BST
DTSTART:20260329T010000
END:DAYLIGHT
BEGIN:STANDARD
TZOFFSETFROM:+0100
TZOFFSETTO:+0000
TZNAME:GMT
DTSTART:20261025T010000
END:STANDARD
BEGIN:DAYLIGHT
TZOFFSETFROM:+0000
TZOFFSETTO:+0100
TZNAME:BST
DTSTART:20270328T010000
END:DAYLIGHT
BEGIN:STANDARD
TZOFFSETFROM:+0100
TZOFFSETTO:+0000
TZNAME:GMT
DTSTART:20271031T010000
END:STANDARD
END:VTIMEZONE
BEGIN:VEVENT
DTSTART;TZID=Europe/London:20260327T093000
DTEND;TZID=Europe/London:20260327T120000
DTSTAMP:20260421T111505
CREATED:20260109T160025Z
LAST-MODIFIED:20260327T133840Z
UID:10000253-1774603800-1774612800@www.factbucks.org.uk
SUMMARY:External Event: National Autistic Society South Buckinghamshire Branch Coffee Morning
DESCRIPTION:The mornings are very informal. A chance for you to meet other parents and carers of autistic children and young people. No diagnosis needed.\nAdults only.\nBottomless hot drinks and breakfast can be purchased at the venue until 10.30am. Please email the branch if attending the Papermill as southbuckinghamshire.branch@nas.org.uk\n#public
URL:https://www.factbucks.org.uk/event/external-event-national-autistic-society-south-buckinghamshire-branch-coffee-morning-10/
LOCATION:Papermill Premier Inn Brewyers Fayre London Rd\, Tylers Green and Loudwater\, United Kingdom
GEO:51.6075149721;-0.692903958699
END:VEVENT
BEGIN:VEVENT
DTSTART;TZID=Europe/London:20260327T100000
DTEND;TZID=Europe/London:20260327T120000
DTSTAMP:20260421T111505
CREATED:20260317T211528Z
LAST-MODIFIED:20260320T195256Z
UID:10000261-1774605600-1774612800@www.factbucks.org.uk
SUMMARY:External event: Wycombe SEND engagement event
DESCRIPTION:Wycombe residents are invited to a SEND engagement event\, taking place on Friday 27th March between 10am and 12pm in High Wycombe.\nThe event will bring together Wycombe residents who have experience of SEND\, with a focus on building a system where every young person can achieve and thrive.\nEmma Reynolds\, MP\, will be sharing clear information on the Government’s plans for SEND reform and collecting views from attendees to feed into the Government’s consultation on these plans.\nIf you’re interested in attending and would like to find out more information\, please contact her team at emma.reynolds.mp@parliament.uk. Please note that there are limited spaces to attend so early registering of your interest is essential.\nAlternatively if you would like to share your views directly with the Department for Education\,  you can complete the SEND reform consultation https://consult.education.gov.uk/send-strategy-division/send-reform-putting-children-and-young-people-firs/\n#public
URL:https://www.factbucks.org.uk/event/external-event-wycombe-send-engagement-event/
END:VEVENT
END:VCALENDAR