BEGIN:VCALENDAR
VERSION:2.0
PRODID:-//FACT Bucks | Parent Carer Forum - ECPv6.15.17.1//NONSGML v1.0//EN
CALSCALE:GREGORIAN
METHOD:PUBLISH
X-WR-CALNAME:FACT Bucks | Parent Carer Forum
X-ORIGINAL-URL:https://www.factbucks.org.uk
X-WR-CALDESC:Events for FACT Bucks | Parent Carer Forum
REFRESH-INTERVAL;VALUE=DURATION:PT1H
X-Robots-Tag:noindex
X-PUBLISHED-TTL:PT1H
BEGIN:VTIMEZONE
TZID:Europe/London
BEGIN:DAYLIGHT
TZOFFSETFROM:+0000
TZOFFSETTO:+0100
TZNAME:BST
DTSTART:20250330T010000
END:DAYLIGHT
BEGIN:STANDARD
TZOFFSETFROM:+0100
TZOFFSETTO:+0000
TZNAME:GMT
DTSTART:20251026T010000
END:STANDARD
BEGIN:DAYLIGHT
TZOFFSETFROM:+0000
TZOFFSETTO:+0100
TZNAME:BST
DTSTART:20260329T010000
END:DAYLIGHT
BEGIN:STANDARD
TZOFFSETFROM:+0100
TZOFFSETTO:+0000
TZNAME:GMT
DTSTART:20261025T010000
END:STANDARD
BEGIN:DAYLIGHT
TZOFFSETFROM:+0000
TZOFFSETTO:+0100
TZNAME:BST
DTSTART:20270328T010000
END:DAYLIGHT
BEGIN:STANDARD
TZOFFSETFROM:+0100
TZOFFSETTO:+0000
TZNAME:GMT
DTSTART:20271031T010000
END:STANDARD
END:VTIMEZONE
BEGIN:VEVENT
DTSTART;TZID=Europe/London:20260325T110000
DTEND;TZID=Europe/London:20260325T140000
DTSTAMP:20260421T112012
CREATED:20260228T174524Z
LAST-MODIFIED:20260320T195256Z
UID:10000257-1774436400-1774447200@www.factbucks.org.uk
SUMMARY:External event: Talkback Spring Fete
DESCRIPTION:#public
URL:https://www.factbucks.org.uk/event/external-event-talkback-spring-fete/
END:VEVENT
END:VCALENDAR